BEGIN:VCALENDAR
VERSION:2.0
PRODID:-//CJs Bodywork Therapy for Equines and Canines - ECPv6.15.20//NONSGML v1.0//EN
CALSCALE:GREGORIAN
METHOD:PUBLISH
X-ORIGINAL-URL:https://cjsbodyworktherapy.com
X-WR-CALDESC:Events for CJs Bodywork Therapy for Equines and Canines
REFRESH-INTERVAL;VALUE=DURATION:PT1H
X-Robots-Tag:noindex
X-PUBLISHED-TTL:PT1H
BEGIN:VTIMEZONE
TZID:UTC
BEGIN:STANDARD
TZOFFSETFROM:+0000
TZOFFSETTO:+0000
TZNAME:UTC
DTSTART:20250101T000000
END:STANDARD
END:VTIMEZONE
BEGIN:VEVENT
DTSTART;TZID=UTC:20260418T080000
DTEND;TZID=UTC:20260418T170000
DTSTAMP:20260419T142133
CREATED:20260418T133336Z
LAST-MODIFIED:20260418T133336Z
UID:1882-1776499200-1776531600@cjsbodyworktherapy.com
SUMMARY:Distant Learning K9 Massage Course
DESCRIPTION:The distant learning Canine course is designed for anyone that has a passion to help their furry companions. This is not a course that you sign up and then it’s left up to you to finish it without a human. The instructor will work with you and meet with you by zoom or phone to discuss the material\, offer help and answer any questions. \n\nStart learning at any time\, no special sign up times\nGo at your own pace\nEasy to follow online course\nNo massage experience is required to participate \nWork from the comfort of your home \n1:1 access to the instructor \nNotice issues before they turn into big issues \n\nFor interest in this online distant learning course\, contact equinebodyworktherapy@gmail.com 
URL:https://cjsbodyworktherapy.com/event/distant-learning-k9-massage-course
LOCATION:MI
END:VEVENT
END:VCALENDAR