BEGIN:VCALENDAR
VERSION:2.0
PRODID:-//CJs Bodywork Therapy for Equines and Canines - ECPv6.15.20//NONSGML v1.0//EN
CALSCALE:GREGORIAN
METHOD:PUBLISH
X-WR-CALNAME:CJs Bodywork Therapy for Equines and Canines
X-ORIGINAL-URL:https://cjsbodyworktherapy.com
X-WR-CALDESC:Events for CJs Bodywork Therapy for Equines and Canines
REFRESH-INTERVAL;VALUE=DURATION:PT1H
X-Robots-Tag:noindex
X-PUBLISHED-TTL:PT1H
BEGIN:VTIMEZONE
TZID:UTC
BEGIN:STANDARD
TZOFFSETFROM:+0000
TZOFFSETTO:+0000
TZNAME:UTC
DTSTART:20180101T000000
END:STANDARD
END:VTIMEZONE
BEGIN:VEVENT
DTSTART;TZID=UTC:20260418T080000
DTEND;TZID=UTC:20260418T170000
DTSTAMP:20260419T125358
CREATED:20260418T133336Z
LAST-MODIFIED:20260418T133336Z
UID:1882-1776499200-1776531600@cjsbodyworktherapy.com
SUMMARY:Distant Learning K9 Massage Course
DESCRIPTION:The distant learning Canine course is designed for anyone that has a passion to help their furry companions. This is not a course that you sign up and then it’s left up to you to finish it without a human. The instructor will work with you and meet with you by zoom or phone to discuss the material\, offer help and answer any questions. \n\nStart learning at any time\, no special sign up times\nGo at your own pace\nEasy to follow online course\nNo massage experience is required to participate \nWork from the comfort of your home \n1:1 access to the instructor \nNotice issues before they turn into big issues \n\nFor interest in this online distant learning course\, contact equinebodyworktherapy@gmail.com 
URL:https://cjsbodyworktherapy.com/event/distant-learning-k9-massage-course
LOCATION:MI
END:VEVENT
BEGIN:VEVENT
DTSTART;TZID=UTC:20240720T080000
DTEND;TZID=UTC:20240723T170000
DTSTAMP:20260419T125358
CREATED:20231218T155833Z
LAST-MODIFIED:20231218T155833Z
UID:1834-1721462400-1721754000@cjsbodyworktherapy.com
SUMMARY:EQUINE SPORTS MASSAGE THERAPY HANDS ON CLASS
DESCRIPTION:
URL:https://cjsbodyworktherapy.com/event/equine-sports-massage-therapy-hands-on-class
LOCATION:Ride A Stride Performance Horses\, LLC\, 11740 E JENKS RD\, Carson City\, MI\, 48811\, United States
ORGANIZER;CN="SW Michigan Natural Healing for Animals":MAILTO:equinebodyworktherapy@gmail.com
END:VEVENT
BEGIN:VEVENT
DTSTART;TZID=UTC:20240413T100000
DTEND;TZID=UTC:20240416T170000
DTSTAMP:20260419T125358
CREATED:20231218T155652Z
LAST-MODIFIED:20231218T155652Z
UID:1831-1713002400-1713286800@cjsbodyworktherapy.com
SUMMARY:EQUINE SPORTS MASSAGE HANDS ON CLASS
DESCRIPTION:
URL:https://cjsbodyworktherapy.com/event/equine-sports-massage-hands-on-class
LOCATION:Ride A Stride Performance Horses\, LLC\, 11740 E JENKS RD\, Carson City\, MI\, 48811\, United States
ORGANIZER;CN="SW Michigan Natural Healing for Animals":MAILTO:equinebodyworktherapy@gmail.com
END:VEVENT
BEGIN:VEVENT
DTSTART;VALUE=DATE:20231019
DTEND;VALUE=DATE:20231023
DTSTAMP:20260419T125358
CREATED:20230530T152945Z
LAST-MODIFIED:20230530T153538Z
UID:1820-1697673600-1698019199@cjsbodyworktherapy.com
SUMMARY:EQUINE SPORTS MASSAGE CERTIFICATION COURSE
DESCRIPTION:
URL:https://cjsbodyworktherapy.com/event/equine-sports-massage-certification-course
LOCATION:Ride A Stride Performance Horses\, LLC\, 11740 E JENKS RD\, Carson City\, MI\, 48811\, United States
CATEGORIES:EQUINE MASSAGE CLASS
END:VEVENT
BEGIN:VEVENT
DTSTART;TZID=UTC:20230810T100000
DTEND;TZID=UTC:20230813T170000
DTSTAMP:20260419T125358
CREATED:20230530T152440Z
LAST-MODIFIED:20230530T152440Z
UID:1817-1691661600-1691946000@cjsbodyworktherapy.com
SUMMARY:EQUINE SPORTS MASSAGE THERAPY CLASSES
DESCRIPTION:Our hands on classes require 3 month online study prior to attending the 4 day hands on class. If you would like to opt out of the online classes\, we offer a 7 day course that includes the online training in it. \nNo massage experience is needed to attend and class size is limited.
URL:https://cjsbodyworktherapy.com/event/equine-sports-massage-therapy-classes
LOCATION:Circle C Stables\, LLC\, 905 Pine Hills Lane\, Benton Harbor\, MI\, 49022\, United States
END:VEVENT
BEGIN:VEVENT
DTSTART;TZID=UTC:20230810T100000
DTEND;TZID=UTC:20230813T170000
DTSTAMP:20260419T125358
CREATED:20230530T151731Z
LAST-MODIFIED:20230530T151731Z
UID:1813-1691661600-1691946000@cjsbodyworktherapy.com
SUMMARY:EQUINE SPORTS MASSAGE THERAPY CERTIFICATION COURSE
DESCRIPTION:Our 4 day hands on class consists of 3 month online learning prior to attending this 4 day hands on class. No prior massage experience needed! Class size is limited to ensure our students receive one on one attention while learning. \nOur facility we use is located in SW Michigan\, close to beaches\, eateries\, wineries\, breweries\, campsites\, and many tourist attractions. Great time to bring the family to vacation after you are done with class for the day unwinding. \nOur courses are not only useful in education for the learning massage but also many other areas of the equine world. This course will help you with selecting a purchase of a new horse\, better riding skills\, rehab skills\, and so much more! \nCome learn from instructors with over 25 years experience in bodywork.
URL:https://cjsbodyworktherapy.com/event/equine-sports-massage-therapy-certification-course
LOCATION:Circle C Stables\, LLC\, 905 Pine Hills Lane\, Benton Harbor\, MI\, 49022\, United States
END:VEVENT
BEGIN:VEVENT
DTSTART;TZID=UTC:20230810T100000
DTEND;TZID=UTC:20230813T170000
DTSTAMP:20260419T125358
CREATED:20230207T172441Z
LAST-MODIFIED:20230207T172441Z
UID:1810-1691661600-1691946000@cjsbodyworktherapy.com
SUMMARY:Certified Equine Sports Massage Therapy Course
DESCRIPTION:
URL:https://cjsbodyworktherapy.com/event/certified-equine-sports-massage-therapy-course-7
LOCATION:Circle C Stables\, LLC\, 905 Pine Hills Lane\, Benton Harbor\, MI\, 49022\, United States
END:VEVENT
BEGIN:VEVENT
DTSTART;VALUE=DATE:20230525
DTEND;VALUE=DATE:20230529
DTSTAMP:20260419T125358
CREATED:20230207T171828Z
LAST-MODIFIED:20230207T171828Z
UID:1806-1684972800-1685318399@cjsbodyworktherapy.com
SUMMARY:Certified Equine Sports Massage Course
DESCRIPTION:Would you love to learn more about helping your own horses perform at their best? Or be able to help your horse maintain that 4 day trail ride? Maybe you have a older horse or injured horse that needs some extra treatment. The benefits of massage therapy are amazing\, during your training you will learn how to evaluate\, eyeball and most of all catch issues before they become a bigger issue. Learning these skills helps you look for your next horse\, you will be trained to look at areas and behaviors that most people would miss or not think of looking at.
URL:https://cjsbodyworktherapy.com/event/certified-equine-sports-massage-course-2
LOCATION:Circle C Stables\, LLC\, 905 Pine Hills Lane\, Benton Harbor\, MI\, 49022\, United States
END:VEVENT
BEGIN:VEVENT
DTSTART;TZID=UTC:20230427T100000
DTEND;TZID=UTC:20230430T170000
DTSTAMP:20260419T125358
CREATED:20221028T115531Z
LAST-MODIFIED:20221028T115531Z
UID:1796-1682589600-1682874000@cjsbodyworktherapy.com
SUMMARY:CERTIFED EQUINE SPORTS MASSAGE HANDS ON CLASS
DESCRIPTION:We are excited to present an Equine Hands-on Massage class in Carson City\, Michigan for the year 2023.
URL:https://cjsbodyworktherapy.com/event/certifed-equine-sports-massage-hands-on-class-2
LOCATION:Ride A Stride Performance Horses\, LLC\, 11740 E JENKS RD\, Carson City\, MI\, 48811\, United States
END:VEVENT
BEGIN:VEVENT
DTSTART;TZID=UTC:20230330T100000
DTEND;TZID=UTC:20230402T170000
DTSTAMP:20260419T125358
CREATED:20221028T114604Z
LAST-MODIFIED:20221028T114604Z
UID:1794-1680170400-1680454800@cjsbodyworktherapy.com
SUMMARY:CERTIFED EQUINE SPORTS MASSAGE HANDS ON CLASS
DESCRIPTION:
URL:https://cjsbodyworktherapy.com/event/certifed-equine-sports-massage-hands-on-class
LOCATION:Circle C Stables\, LLC\, 905 Pine Hills Lane\, Benton Harbor\, MI\, 49022\, United States
END:VEVENT
BEGIN:VEVENT
DTSTART;TZID=UTC:20221110T100000
DTEND;TZID=UTC:20221113T170000
DTSTAMP:20260419T125358
CREATED:20220208T182012Z
LAST-MODIFIED:20220208T182012Z
UID:1788-1668074400-1668358800@cjsbodyworktherapy.com
SUMMARY:Certified Equine Sports Massage Therapy course
DESCRIPTION:
URL:https://cjsbodyworktherapy.com/event/certified-equine-sports-massage-therapy-course-5
LOCATION:MI
END:VEVENT
BEGIN:VEVENT
DTSTART;TZID=UTC:20221020T100000
DTEND;TZID=UTC:20221023T170000
DTSTAMP:20260419T125358
CREATED:20220208T181850Z
LAST-MODIFIED:20220208T181850Z
UID:1786-1666260000-1666544400@cjsbodyworktherapy.com
SUMMARY:Certified Equine Sports Massage course
DESCRIPTION:
URL:https://cjsbodyworktherapy.com/event/certified-equine-sports-massage-course
LOCATION:Circle C Stables\, LLC\, 905 Pine Hills Lane\, Benton Harbor\, MI\, 49022\, United States
END:VEVENT
BEGIN:VEVENT
DTSTART;TZID=UTC:20220922T100000
DTEND;TZID=UTC:20220925T170000
DTSTAMP:20260419T125358
CREATED:20220208T181744Z
LAST-MODIFIED:20220208T181744Z
UID:1784-1663840800-1664125200@cjsbodyworktherapy.com
SUMMARY:Certified Equine Sports Massage Therapy course
DESCRIPTION:
URL:https://cjsbodyworktherapy.com/event/certified-equine-sports-massage-therapy-course-4
LOCATION:Circle C Stables\, LLC\, 905 Pine Hills Lane\, Benton Harbor\, MI\, 49022\, United States
END:VEVENT
BEGIN:VEVENT
DTSTART;TZID=UTC:20220728T100000
DTEND;TZID=UTC:20220731T170000
DTSTAMP:20260419T125358
CREATED:20220208T181644Z
LAST-MODIFIED:20220208T181644Z
UID:1782-1659002400-1659286800@cjsbodyworktherapy.com
SUMMARY:Certified Equine Sports Massage Therapy course
DESCRIPTION:
URL:https://cjsbodyworktherapy.com/event/certified-equine-sports-massage-therapy-course-3
LOCATION:Circle C Stables\, LLC\, 905 Pine Hills Lane\, Benton Harbor\, MI\, 49022\, United States
END:VEVENT
BEGIN:VEVENT
DTSTART;TZID=UTC:20220609T100000
DTEND;TZID=UTC:20220612T170000
DTSTAMP:20260419T125358
CREATED:20220208T181527Z
LAST-MODIFIED:20220208T181527Z
UID:1780-1654768800-1655053200@cjsbodyworktherapy.com
SUMMARY:Certified Equine Sports Massage Therapy course
DESCRIPTION:
URL:https://cjsbodyworktherapy.com/event/certified-equine-sports-massage-therapy-course-2
LOCATION:Circle C Stables\, LLC\, 905 Pine Hills Lane\, Benton Harbor\, MI\, 49022\, United States
END:VEVENT
BEGIN:VEVENT
DTSTART;TZID=UTC:20220428T100000
DTEND;TZID=UTC:20220501T170000
DTSTAMP:20260419T125358
CREATED:20220208T180947Z
LAST-MODIFIED:20220208T181149Z
UID:1776-1651140000-1651424400@cjsbodyworktherapy.com
SUMMARY:Certified Equine Sports Massage Therapy Course
DESCRIPTION:
URL:https://cjsbodyworktherapy.com/event/certified-equine-sports-massage-therapy-course
LOCATION:Circle C Stables\, LLC\, 905 Pine Hills Lane\, Benton Harbor\, MI\, 49022\, United States
END:VEVENT
BEGIN:VEVENT
DTSTART;TZID=UTC:20220331T100000
DTEND;TZID=UTC:20220403T170000
DTSTAMP:20260419T125358
CREATED:20220208T182138Z
LAST-MODIFIED:20220208T182138Z
UID:1790-1648720800-1649005200@cjsbodyworktherapy.com
SUMMARY:Certified Equine Sports Massage Therapy course
DESCRIPTION:
URL:https://cjsbodyworktherapy.com/event/certified-equine-sports-massage-therapy-course-6
LOCATION:Circle C Stables\, LLC\, 905 Pine Hills Lane\, Benton Harbor\, MI\, 49022\, United States
END:VEVENT
BEGIN:VEVENT
DTSTART;TZID=UTC:20210722T100000
DTEND;TZID=UTC:20210725T170000
DTSTAMP:20260419T125358
CREATED:20220609T100020Z
LAST-MODIFIED:20220208T181355Z
UID:1764-1626948000-1627232400@cjsbodyworktherapy.com
SUMMARY:Certification Equine Sports Massage Hands on class
DESCRIPTION:
URL:https://cjsbodyworktherapy.com/event/certification-equine-sports-massage-hands-on-class
LOCATION:414 Performance Horses\, 11208 Hills Rd\, Baroda\, MI\, 49101\, United States
END:VEVENT
BEGIN:VEVENT
DTSTART;VALUE=DATE:20210722
DTEND;VALUE=DATE:20210726
DTSTAMP:20260419T125358
CREATED:20210506T025621Z
LAST-MODIFIED:20210506T025640Z
UID:1762-1626912000-1627257599@cjsbodyworktherapy.com
SUMMARY:Certification Equine Hands on Massage Course
DESCRIPTION:
URL:https://cjsbodyworktherapy.com/event/certification-equine-hands-on-massage-course
LOCATION:414 Performance Horses\, 11208 Hills Rd\, Baroda\, MI\, 49101\, United States
END:VEVENT
BEGIN:VEVENT
DTSTART;VALUE=DATE:20190914
DTEND;VALUE=DATE:20190916
DTSTAMP:20260419T125358
CREATED:20190909T152237Z
LAST-MODIFIED:20190909T152603Z
UID:187-1568419200-1568591999@cjsbodyworktherapy.com
SUMMARY:MIHA District 3 Equestrian Meet
DESCRIPTION:Come out and support these amazing high school teams and their horses. I am very fortunate I have had the opportunity to work on many of these horses from around the county and work with their owners to help them perform at their best. These youth work hard and some work even harder to learn to ride a new riding style in a short time frame to help their team out. Team work is what its all about! \nGOOD LUCK TO ALL!
URL:https://cjsbodyworktherapy.com/event/miha-district-3-equestrian-meet
LOCATION:Berrien County Youth Fair\, 9122 U.S. Hwy 31\, Berrien Springs\, 49103\, United States
END:VEVENT
BEGIN:VEVENT
DTSTART;TZID=UTC:20190316T080000
DTEND;TZID=UTC:20190317T170000
DTSTAMP:20260419T125358
CREATED:20190204T155008Z
LAST-MODIFIED:20190204T155008Z
UID:166-1552723200-1552842000@cjsbodyworktherapy.com
SUMMARY:Equine Wellness Clinic featuring Western Dressage Education
DESCRIPTION:The best of equine massage therapy and Western Dressage education with Christy J Laporte & Ian Baese to be held in Dodge City\, Kansas. \nMore details to come.
URL:https://cjsbodyworktherapy.com/event/equine-wellness-clinic-featuring-western-dressage-education
LOCATION:MI
END:VEVENT
BEGIN:VEVENT
DTSTART;TZID=UTC:20190310T080000
DTEND;TZID=UTC:20190310T160000
DTSTAMP:20260419T125358
CREATED:20190204T152406Z
LAST-MODIFIED:20190204T152406Z
UID:141-1552204800-1552233600@cjsbodyworktherapy.com
SUMMARY:Equine Wellness Clinic
DESCRIPTION:A great review for horse owners to learn how to recognize when your horse needs help through massage.  The clinic will also include a session on essential oils and Photonic Red Light taught by Melody Horne of Double H Animal Massage. \nTopics covered include: \n\nHow to know when your horse needs a massage vs vet or chiropractic work\nTack issues that can cause soreness\nCommon behaviors when a horse is in pain\nQuestion and answer session\nHands on demonstrations\n\nHands On – Prepay $85.00 by March 2nd or $100.00 after March 2nd and at the door\nAudit – Prepay $25.00 by March 2nd or $30.00 after March 2nd and at the door \nChristy LaPorte from CJs Bodywork Therapy will be teaching the clinic. Christy teaches Hands on Massage classes for Equine Massage Certification as well as Canine Massage Certification. \nRegister \nMelody  – doublehemt@gmail.com  863-224-5452\nor\nChristy – equinebodyworktherapy@gmail.com  269-262-2504
URL:https://cjsbodyworktherapy.com/event/equine-wellness-clinic-2
LOCATION:Double H Ranch\, Bartow\, FL\, United States
END:VEVENT
BEGIN:VEVENT
DTSTART;TZID=UTC:20190309T080000
DTEND;TZID=UTC:20190309T160000
DTSTAMP:20260419T125358
CREATED:20190204T150230Z
LAST-MODIFIED:20190204T152019Z
UID:135-1552118400-1552147200@cjsbodyworktherapy.com
SUMMARY:Equine Wellness Clinic
DESCRIPTION:A great review for horse owners to learn how to recognize when your horse needs help through massage.  The clinic will also include a session on essential oils and Photonic Red Light taught by Melofy Horne of Double H Animal Massage. \nTopics covered include: \n\nHow to know when your horse needs a massage vs vet or chiropractic work\nTack issues that can cause soreness\nCommon behaviors when a horse is in pain\nQuestion and answer session\nHands on demonstrations\n\nHands On – Prepay $85.00 by March 2nd or $100.00 after March 2nd and at the door\nAudit – Prepay $25.00 by March 2nd or $30.00 after March 2nd and at the door \nBonus Canine Wellness Clinic\nChristy will be offering a special Canine Wellness Clinic at 4:00 pm for $35.00 or $25.00 if attending the Equine Wellness Clinic. \nChristy LaPorte from CJs Bodywork Therapy will be teaching the clinic. Christy teaches Hands on Massage classes for Equine Massage Certification as well as Canine Massage Certification. \nRegister \nMelody  – doublehemt@gmail.com  863-224-5452\nor\nChristy – equinebodyworktherapy@gmail.com  269-262-2504
URL:https://cjsbodyworktherapy.com/event/equine-wellness-clinic
LOCATION:Rockin W Ranch\, 190 Rifle Range Rd\, Bartow\, FL\, 33830\, United States
END:VEVENT
BEGIN:VEVENT
DTSTART;TZID=UTC:20190303T160000
DTEND;TZID=UTC:20190303T193000
DTSTAMP:20260419T125358
CREATED:20190204T153417Z
LAST-MODIFIED:20190204T153532Z
UID:149-1551628800-1551641400@cjsbodyworktherapy.com
SUMMARY:Equine Massage Program -  Teens - Part 3
DESCRIPTION:Equine massage therapy training for teens 13-19 years of age.
URL:https://cjsbodyworktherapy.com/event/equine-youth-massage-program-berrien-springs-part-3
LOCATION:Shadow Trailer Feed & Supply Store\, 8716 US 31 N\, Berrien Springs\, MI\, 49103\, United States
END:VEVENT
BEGIN:VEVENT
DTSTART;TZID=UTC:20190224T160000
DTEND;TZID=UTC:20190224T193000
DTSTAMP:20260419T125358
CREATED:20190204T153323Z
LAST-MODIFIED:20190204T153727Z
UID:147-1551024000-1551036600@cjsbodyworktherapy.com
SUMMARY:Equine Massage Program -  Teens - Part 2
DESCRIPTION:Equine massage therapy training for teens 13-19 years of age.
URL:https://cjsbodyworktherapy.com/event/equine-youth-massage-program-berrien-springs-part-2
LOCATION:Shadow Trailer Feed & Supply Store\, 8716 US 31 N\, Berrien Springs\, MI\, 49103\, United States
END:VEVENT
BEGIN:VEVENT
DTSTART;TZID=UTC:20190224T123000
DTEND;TZID=UTC:20190224T143000
DTSTAMP:20260419T125358
CREATED:20190204T154141Z
LAST-MODIFIED:20190204T154141Z
UID:162-1551011400-1551018600@cjsbodyworktherapy.com
SUMMARY:Equine Massage Program - Youth - Part 3
DESCRIPTION:Equine massage therapy training for youth 8-12 years of age.
URL:https://cjsbodyworktherapy.com/event/equine-massage-program-youth-part-3
LOCATION:414 Performance Horses\, 11208 Hills Rd\, Baroda\, MI\, 49101\, United States
END:VEVENT
BEGIN:VEVENT
DTSTART;TZID=UTC:20190223T100000
DTEND;TZID=UTC:20190223T170000
DTSTAMP:20260419T125358
CREATED:20190204T154642Z
LAST-MODIFIED:20190204T154642Z
UID:164-1550916000-1550941200@cjsbodyworktherapy.com
SUMMARY:Western Dressage Educational Day
DESCRIPTION:A special day of western dressage education with WDAMI Certified Instructor Ian Baese.
URL:https://cjsbodyworktherapy.com/event/western-dressage-educational-day
LOCATION:414 Performance Horses\, 11208 Hills Rd\, Baroda\, MI\, 49101\, United States
END:VEVENT
BEGIN:VEVENT
DTSTART;TZID=UTC:20190217T160000
DTEND;TZID=UTC:20190217T193000
DTSTAMP:20260419T125358
CREATED:20190204T153224Z
LAST-MODIFIED:20190204T153703Z
UID:144-1550419200-1550431800@cjsbodyworktherapy.com
SUMMARY:Equine Massage Program -  Teens - Part 1
DESCRIPTION:Equine massage therapy training for teens 13-19 years of age.
URL:https://cjsbodyworktherapy.com/event/equine-youth-massage-program-berrien-springs-part-1
LOCATION:Shadow Trailer Feed & Supply Store\, 8716 US 31 N\, Berrien Springs\, MI\, 49103\, United States
END:VEVENT
BEGIN:VEVENT
DTSTART;TZID=UTC:20190217T123000
DTEND;TZID=UTC:20190217T143000
DTSTAMP:20260419T125358
CREATED:20190204T154041Z
LAST-MODIFIED:20190204T154041Z
UID:160-1550406600-1550413800@cjsbodyworktherapy.com
SUMMARY:Equine Massage Program - Youth - Part 2
DESCRIPTION:Equine massage therapy training for youth 8-12 years of age.
URL:https://cjsbodyworktherapy.com/event/equine-massage-program-youth-part-2
LOCATION:414 Performance Horses\, 11208 Hills Rd\, Baroda\, MI\, 49101\, United States
END:VEVENT
BEGIN:VEVENT
DTSTART;TZID=UTC:20190210T123000
DTEND;TZID=UTC:20190210T143000
DTSTAMP:20260419T125358
CREATED:20190204T153943Z
LAST-MODIFIED:20190204T153943Z
UID:157-1549801800-1549809000@cjsbodyworktherapy.com
SUMMARY:Equine Massage Program - Youth - Part 1
DESCRIPTION:Equine massage therapy training for youth 8-12 years of age.
URL:https://cjsbodyworktherapy.com/event/equine-massage-program-youth-part-1
LOCATION:414 Performance Horses\, 11208 Hills Rd\, Baroda\, MI\, 49101\, United States
END:VEVENT
END:VCALENDAR