BEGIN:VCALENDAR
VERSION:2.0
PRODID:-//CJs Bodywork Therapy for Equines and Canines - ECPv6.15.20//NONSGML v1.0//EN
CALSCALE:GREGORIAN
METHOD:PUBLISH
X-WR-CALNAME:CJs Bodywork Therapy for Equines and Canines
X-ORIGINAL-URL:https://cjsbodyworktherapy.com
X-WR-CALDESC:Events for CJs Bodywork Therapy for Equines and Canines
REFRESH-INTERVAL;VALUE=DURATION:PT1H
X-Robots-Tag:noindex
X-PUBLISHED-TTL:PT1H
BEGIN:VTIMEZONE
TZID:UTC
BEGIN:STANDARD
TZOFFSETFROM:+0000
TZOFFSETTO:+0000
TZNAME:UTC
DTSTART:20170101T000000
END:STANDARD
END:VTIMEZONE
BEGIN:VEVENT
DTSTART;TZID=UTC:20181215T090000
DTEND;TZID=UTC:20181215T120000
DTSTAMP:20260420T073147
CREATED:20181206T212347Z
LAST-MODIFIED:20181206T222011Z
UID:62-1544864400-1544875200@cjsbodyworktherapy.com
SUMMARY:Test Clinic Event
DESCRIPTION:What goes here?
URL:https://cjsbodyworktherapy.com/event/test-clinic-event
LOCATION:Test Venue\, 111 Main St\, Dowagiac\, MI\, 49047\, United States
CATEGORIES:Canine Clinic
END:VEVENT
END:VCALENDAR